BEGIN:VCALENDAR
VERSION:2.0
METHOD:PUBLISH
PRODID:SimpleCalendar
BEGIN:VEVENT
UID:@simplecalendar-Luftsportverein Greiz e.V.
CATEGORIES:Allgemein
CLASS:PUBLIC
DTSTAMP:20260421T015433Z
CREATED:20260421T015433Z
SUMMARY:Park- und Schlossfest Festumzug
DESCRIPTION:Park- und Schlossfest Festumzug Greiz /
LOCATION:Greiz
LAST-MODIFIED:20200303T212829Z
URL:https://www.luftsportverein-greiz.de/component/simplecalendar/8-allgemein/162-park-und-schlossfest-festumzug-4a8ddc7.html?Itemid=134
TRANSP:OPAQUE
DTSTART:20200612T000000Z
DTEND:20200614T000000Z
END:VEVENT
END:VCALENDAR